Workbook

Sheet CIRC 01.
A1: CÁLCULO DE QUEDA DE TENSÃO
A2: OBRA: Implantação do Sistema de Iluminação Esportiva do Estádio Municipal de Vicentina/MS.
A4: NÚMERO: S/N PRIM. 13,8kV SECUN . 220/127V FP. 0,920
B5: (transformador ou aliment.)
A13: DV%*100=[(Coef.Q.Ten.)*Prod.(A*K)]*100/DV
A14: Trecho | B14: Dist(km) | C14: Pot(W) Inicial | D14: Pot(W) com 10% | E14: Corr(A) Inicial | F14: Corr(A) com 10% | G14: Prod(A*km) | H14: Bitola mm² | I14: Coefic. Queda | J14: Cabos | K14: DV | M14: DV%*100 | N14: TOTAL
A16: CARGA TOTAL NO MEDIDOR = 40 RFLETORES LED 600W + 8 REFLETORES LED 200W (ARQUIBANCADA) + 8 REFLETORES DE 600W (AMPLIAÇÃO FUTURA)
A18: MED - QDL | B18: =0.0013 -> 0.0013 | C18: 34400 | D18: =C18*1.1 -> 37840 | E18: =(C18/(220*SQRT(3)*0.92)) -> 98.126726 | F18: =E18*1.1 -> 107.9394 | G18: =B18*F18 -> 0.14032122 | H18: 35 | I18: 1.65 | J18: =B18*3000 -> 3.9 | K18: 220 | L18: =B18*3000 -> 3.9 | M18: =(G18*I18*100)/K18 -> 0.10524091 | N18: =M18 -> 0.10524091 | O18: =27*60 -> 1620
O19: 24000 | P19: =O19+O18 -> 25620
A20: CIRCUITO DA TORRE 01 COM 10 REFLETORES LED DE 600W
A21: QDL - T1 | B21: 0.015 | C21: 6000 | D21: =C21*1.1 -> 6600 | E21: =(C21/(220*SQRT(3)*0.92)) -> 17.115127 | F21: =E21*1.1 -> 18.826639 | G21: =B21*F21 -> 0.28239959 | H21: 10 | I21: 3.17 | J21: =B21*3000 -> 45 | K21: 220 | L21: =B21*3000 -> 45 | M21: =(G21*I21*100)/K21 -> 0.40691213 | N21: =M21+$N$18 -> 0.51215305 | O21: =B21*3000 -> 45 | P21: =(O21+O22+O26+O30+O34)*1.1 -> 287.1
A22: T1 - T1' | B22: 0.018 | C22: 6000 | D22: =C22*1.1 -> 6600 | E22: =(C22/(220*SQRT(3)*0.92)) -> 17.115127 | F22: =E22*1.1 -> 18.826639 | G22: =B22*F22 -> 0.33887951 | H22: 6 | I22: 5.25 | J22: =B22*3000 -> 54 | K22: 220 | L22: =B22*3000 -> 54 | M22: =(G22*I22*100)/K22 -> 0.80868973 | N22: =M22+$N$21 -> 1.3208428 | O22: =B22*3000 -> 54
A24: CIRCUITO DA TORRE 02 COM 10 REFLETORES LED DE 600W
A25: QDL - T2 | B25: 0.065 | C25: 6000 | D25: =C25*1.1 -> 6600 | E25: =(C25/(220*SQRT(3)*0.92)) -> 17.115127 | F25: =E25*1.1 -> 18.826639 | G25: =B25*F25 -> 1.2237315 | H25: 10 | I25: 3.17 | J25: =B25*3000 -> 195 | K25: 220 | L25: =B25*3000 -> 195 | M25: =(G25*I25*100)/K25 -> 1.7632859 | N25: =M25+$N$18 -> 1.8685268 | O25: =B25*3000 -> 195 | P25: =O25+O29 -> 606 | Q25: =P25*1.1 -> 666.6
A26: T2 - T2' | B26: =0.018 -> 0.018 | C26: 6000 | D26: =C26*1.1 -> 6600 | E26: =(C26/(220*SQRT(3)*0.92)) -> 17.115127 | F26: =E26*1.1 -> 18.826639 | G26: =B26*F26 -> 0.33887951 | H26: 6 | I26: 5.25 | J26: =B26*3000 -> 54 | K26: 220 | L26: =B26*3000 -> 54 | M26: =(G26*I26*100)/K26 -> 0.80868973 | N26: =M26+$N$25 -> 2.6772166 | O26: =B26*3000 -> 54
A28: CIRCUITO DA TORRE 03 COM 10 REFLETORES LED DE 600W
A29: QDL - T3 | B29: 0.137 | C29: 6000 | D29: =C29*1.1 -> 6600 | E29: =(C29/(220*SQRT(3)*0.92)) -> 17.115127 | F29: =E29*1.1 -> 18.826639 | G29: =B29*F29 -> 2.5792496 | H29: 10 | I29: 3.17 | J29: =B29*3000 -> 411 | K29: 220 | L29: =B29*3000 -> 411 | M29: =(G29*I29*100)/K29 -> 3.7164642 | N29: =M29+$N$18 -> 3.8217051 | O29: =B29*3000 -> 411
A30: T3 - T3' | B30: 0.018 | C30: 6000 | D30: =C30*1.1 -> 6600 | E30: =(C30/(220*SQRT(3)*0.92)) -> 17.115127 | F30: =E30*1.1 -> 18.826639 | G30: =B30*F30 -> 0.33887951 | H30: 6 | I30: 5.25 | J30: =B30*3000 -> 54 | K30: 220 | L30: =B30*3000 -> 54 | M30: =(G30*I30*100)/K30 -> 0.80868973 | N30: =M30+$N$29 -> 4.6303948 | O30: =B30*3000 -> 54
A32: CIRCUITO DA TORRE 04 COM 10 REFLETORES LED DE 600W
A33: QDL - T4 | B33: 0.185 | C33: 6000 | D33: =C33*1.1 -> 6600 | E33: =(C33/(220*SQRT(3)*0.92)) -> 17.115127 | F33: =E33*1.1 -> 18.826639 | G33: =B33*F33 -> 3.4829283 | H33: 16 | I33: 2.03 | J33: =B33*3000 -> 555 | K33: 220 | L33: =B33*3000 -> 555 | M33: =(G33*I33*100)/K33 -> 3.2137929 | N33: =M33+$N$18 -> 3.3190338 | O33: =B33*3000 -> 555 | P33: =O33*1.1 -> 610.5
A34: T4 - T4' | B34: 0.018 | C34: 6000 | D34: =C34*1.1 -> 6600 | E34: =(C34/(220*SQRT(3)*0.92)) -> 17.115127 | F34: =E34*1.1 -> 18.826639 | G34: =B34*F34 -> 0.33887951 | H34: 6 | I34: 5.25 | J34: =B34*3000 -> 54 | K34: 220 | L34: =B34*3000 -> 54 | M34: =(G34*I34*100)/K34 -> 0.80868973 | N34: =M34+$N$33 -> 4.1277235 | O34: =B34*3000 -> 54
A36: Obs.: Para o cálculo, foi considerados além da carga a ser instalada mais a carga existente do sistema de iluminação pública da pista de caminhada do Horto com 27 luminárias Led de 60W.
A38: DEMANDA NOTURNA = 34.400W
A39: PREPARADO POR________________________ VISTO_____________DATA ____/____/________
O50: https://www.creams.org.br/r_arts/baixa-de-art-com-registro-de-atestado/

Sheet Quant. Condutores e eletrodutos
A1: CABO | B1: Queda de tensão em V/A km fp 0,95 trifásico
A3: #95 | B3: 0.43 | G3: Trechos | H3: Cond. #95mm² | J3: Cond. #70mm² | L3: Cond. #50mm² | N3: Cond. #35mm² | P3: Cond. #25mm² | R3: Cond. #16mm² | T3: Cond. #10mm² | V3: Cond. #6mm² | X3: Cond. #4mm²
A4: #70 | B4: 0.55 | H4: comp. (m) | I4: total | J4: comp. (m) | K4: total | L4: comp. (m) | M4: total | N4: comp. (m) | O4: total | P4: comp. (m) | Q4: total | R4: comp. (m) | S4: total | T4: comp. (m) | U4: total | V4: comp. (m) | W4: total | X4: comp. (m) | Y4: total
A5: #50 | B5: 0.76 | G5: ='CIRC 01.'!A17 -> 0 | H5: =IF('CIRC 01.'!H17=95,'CIRC 01.'!B17*1000,0) -> 0 | I5: =SUM(H5:H47) -> #REF! | J5: =IF('CIRC 01.'!H17=70,'CIRC 01.'!B17*1000,0) -> 0 | K5: =SUM(J5:J47) -> #REF! | L5: =IF('CIRC 01.'!H17=50,'CIRC 01.'!B17*1000,0) -> 0 | M5: =SUM(L5:L47) -> #REF! | N5: =IF('CIRC 01.'!H17=35,'CIRC 01.'!B17*1000,0) -> 0 | O5: =SUM(N5:N47) -> #REF! | P5: =IF('CIRC 01.'!H17=25,'CIRC 01.'!B17*1000,0) -> 0 | Q5: =SUM(P5:P47) -> #REF! | R5: =IF('CIRC 01.'!H17=16,'CIRC 01.'!B17*1000,0) -> 0 | S5: =SUM(R5:R47) -> #REF! | T5: =IF('CIRC 01.'!H17=10,'CIRC 01.'!B17*1000,0) -> 0 | U5: =SUM(T5:T47) -> #REF! | V5: =IF('CIRC 01.'!H17=6,'CIRC 01.'!B17*1000,0) -> 0 | W5: =SUM(V5:V47) -> #REF! | X5: =IF('CIRC 01.'!H17=4,'CIRC 01.'!B17*1000,0) -> 0 | Y5: =SUM(X5:X47) -> #REF!
A6: #35 | B6: 0.98 | G6: ='CIRC 01.'!A18 -> MED - QDL | H6: =IF('CIRC 01.'!H18=95,'CIRC 01.'!B18*1000,0) -> 0 | J6: =IF('CIRC 01.'!H18=70,'CIRC 01.'!B18*1000,0) -> 0 | L6: =IF('CIRC 01.'!H18=50,'CIRC 01.'!B18*1000,0) -> 0 | N6: =IF('CIRC 01.'!H18=35,'CIRC 01.'!B18*1000,0) -> 1.3 | P6: =IF('CIRC 01.'!H18=25,'CIRC 01.'!B18*1000,0) -> 0 | R6: =IF('CIRC 01.'!H18=16,'CIRC 01.'!B18*1000,0) -> 0 | T6: =IF('CIRC 01.'!H18=10,'CIRC 01.'!B18*1000,0) -> 0 | V6: =IF('CIRC 01.'!H18=6,'CIRC 01.'!B18*1000,0) -> 0 | X6: =IF('CIRC 01.'!H18=4,'CIRC 01.'!B18*1000,0) -> 0
A7: #25 | B7: 1.33 | G7: ='CIRC 01.'!A20 -> CIRCUITO DA TORRE 01 COM 10 REFLETORES LED DE 600W | H7: =IF('CIRC 01.'!H20=95,'CIRC 01.'!B20*1000,0) -> 0 | J7: =IF('CIRC 01.'!H20=70,'CIRC 01.'!B20*1000,0) -> 0 | L7: =IF('CIRC 01.'!H20=50,'CIRC 01.'!B20*1000,0) -> 0 | N7: =IF('CIRC 01.'!H20=35,'CIRC 01.'!B20*1000,0) -> 0 | P7: =IF('CIRC 01.'!H20=25,'CIRC 01.'!B20*1000,0) -> 0 | R7: =IF('CIRC 01.'!H20=16,'CIRC 01.'!B20*1000,0) -> 0 | T7: =IF('CIRC 01.'!H20=10,'CIRC 01.'!B20*1000,0) -> 0 | V7: =IF('CIRC 01.'!H20=6,'CIRC 01.'!B20*1000,0) -> 0 | X7: =IF('CIRC 01.'!H20=4,'CIRC 01.'!B20*1000,0) -> 0
A8: #16 | B8: 2.03 | E8: =B18*1.05 -> #REF! | G8: ='CIRC 01.'!A21 -> QDL - T1 | H8: =IF('CIRC 01.'!H21=95,'CIRC 01.'!B21*1000,0) -> 0 | J8: =IF('CIRC 01.'!H21=70,'CIRC 01.'!B21*1000,0) -> 0 | L8: =IF('CIRC 01.'!H21=50,'CIRC 01.'!B21*1000,0) -> 0 | N8: =IF('CIRC 01.'!H21=35,'CIRC 01.'!B21*1000,0) -> 0 | P8: =IF('CIRC 01.'!H21=25,'CIRC 01.'!B21*1000,0) -> 0 | R8: =IF('CIRC 01.'!H21=16,'CIRC 01.'!B21*1000,0) -> 0 | T8: =IF('CIRC 01.'!H21=10,'CIRC 01.'!B21*1000,0) -> 15 | V8: =IF('CIRC 01.'!H21=6,'CIRC 01.'!B21*1000,0) -> 0 | X8: =IF('CIRC 01.'!H21=4,'CIRC 01.'!B21*1000,0) -> 0
A9: #10 | B9: 3.17 | G9: ='CIRC 01.'!A23 -> 0 | H9: =IF('CIRC 01.'!H23=95,'CIRC 01.'!B23*1000,0) -> 0 | J9: =IF('CIRC 01.'!H23=70,'CIRC 01.'!B23*1000,0) -> 0 | L9: =IF('CIRC 01.'!H23=50,'CIRC 01.'!B23*1000,0) -> 0 | N9: =IF('CIRC 01.'!H23=35,'CIRC 01.'!B23*1000,0) -> 0 | P9: =IF('CIRC 01.'!H23=25,'CIRC 01.'!B23*1000,0) -> 0 | R9: =IF('CIRC 01.'!H23=16,'CIRC 01.'!B23*1000,0) -> 0 | T9: =IF('CIRC 01.'!H23=10,'CIRC 01.'!B23*1000,0) -> 0 | V9: =IF('CIRC 01.'!H23=6,'CIRC 01.'!B23*1000,0) -> 0 | X9: =IF('CIRC 01.'!H23=4,'CIRC 01.'!B23*1000,0) -> 0
A10: #6 | B10: 5.25 | G10: ='CIRC 01.'!A24 -> CIRCUITO DA TORRE 02 COM 10 REFLETORES LED DE 600W | H10: =IF('CIRC 01.'!H24=95,'CIRC 01.'!B24*1000,0) -> 0 | J10: =IF('CIRC 01.'!H24=70,'CIRC 01.'!B24*1000,0) -> 0 | L10: =IF('CIRC 01.'!H24=50,'CIRC 01.'!B24*1000,0) -> 0 | N10: =IF('CIRC 01.'!H24=35,'CIRC 01.'!B24*1000,0) -> 0 | P10: =IF('CIRC 01.'!H24=25,'CIRC 01.'!B24*1000,0) -> 0 | R10: =IF('CIRC 01.'!H24=16,'CIRC 01.'!B24*1000,0) -> 0 | T10: =IF('CIRC 01.'!H24=10,'CIRC 01.'!B24*1000,0) -> 0 | V10: =IF('CIRC 01.'!H24=6,'CIRC 01.'!B24*1000,0) -> 0 | X10: =IF('CIRC 01.'!H24=4,'CIRC 01.'!B24*1000,0) -> 0
A11: #4 | B11: 7.79 | G11: ='CIRC 01.'!A25 -> QDL - T2 | H11: =IF('CIRC 01.'!H25=95,'CIRC 01.'!B25*1000,0) -> 0 | J11: =IF('CIRC 01.'!H25=70,'CIRC 01.'!B25*1000,0) -> 0 | L11: =IF('CIRC 01.'!H25=50,'CIRC 01.'!B25*1000,0) -> 0 | N11: =IF('CIRC 01.'!H25=35,'CIRC 01.'!B25*1000,0) -> 0 | P11: =IF('CIRC 01.'!H25=25,'CIRC 01.'!B25*1000,0) -> 0 | R11: =IF('CIRC 01.'!H25=16,'CIRC 01.'!B25*1000,0) -> 0 | T11: =IF('CIRC 01.'!H25=10,'CIRC 01.'!B25*1000,0) -> 65 | V11: =IF('CIRC 01.'!H25=6,'CIRC 01.'!B25*1000,0) -> 0 | X11: =IF('CIRC 01.'!H25=4,'CIRC 01.'!B25*1000,0) -> 0
A12: #2,5 | B12: 12.4 | G12: ='CIRC 01.'!A27 -> 0 | H12: =IF('CIRC 01.'!H27=95,'CIRC 01.'!B27*1000,0) -> 0 | J12: =IF('CIRC 01.'!H27=70,'CIRC 01.'!B27*1000,0) -> 0 | L12: =IF('CIRC 01.'!H27=50,'CIRC 01.'!B27*1000,0) -> 0 | N12: =IF('CIRC 01.'!H27=35,'CIRC 01.'!B27*1000,0) -> 0 | P12: =IF('CIRC 01.'!H27=25,'CIRC 01.'!B27*1000,0) -> 0 | R12: =IF('CIRC 01.'!H27=16,'CIRC 01.'!B27*1000,0) -> 0 | T12: =IF('CIRC 01.'!H27=10,'CIRC 01.'!B27*1000,0) -> 0 | V12: =IF('CIRC 01.'!H27=6,'CIRC 01.'!B27*1000,0) -> 0 | X12: =IF('CIRC 01.'!H27=4,'CIRC 01.'!B27*1000,0) -> 0
G13: ='CIRC 01.'!A28 -> CIRCUITO DA TORRE 03 COM 10 REFLETORES LED DE 600W | H13: =IF('CIRC 01.'!H28=95,'CIRC 01.'!B28*1000,0) -> 0 | J13: =IF('CIRC 01.'!H28=70,'CIRC 01.'!B28*1000,0) -> 0 | L13: =IF('CIRC 01.'!H28=50,'CIRC 01.'!B28*1000,0) -> 0 | N13: =IF('CIRC 01.'!H28=35,'CIRC 01.'!B28*1000,0) -> 0 | P13: =IF('CIRC 01.'!H28=25,'CIRC 01.'!B28*1000,0) -> 0 | R13: =IF('CIRC 01.'!H28=16,'CIRC 01.'!B28*1000,0) -> 0 | T13: =IF('CIRC 01.'!H28=10,'CIRC 01.'!B28*1000,0) -> 0 | V13: =IF('CIRC 01.'!H28=6,'CIRC 01.'!B28*1000,0) -> 0 | X13: =IF('CIRC 01.'!H28=4,'CIRC 01.'!B28*1000,0) -> 0
A14: CABO | B14: 1 cond. (m) | C14: 2 cond. (m) | D14: 3 cond. (m) | G14: ='CIRC 01.'!A29 -> QDL - T3 | H14: =IF('CIRC 01.'!H29=95,'CIRC 01.'!B29*1000,0) -> 0 | J14: =IF('CIRC 01.'!H29=70,'CIRC 01.'!B29*1000,0) -> 0 | L14: =IF('CIRC 01.'!H29=50,'CIRC 01.'!B29*1000,0) -> 0 | N14: =IF('CIRC 01.'!H29=35,'CIRC 01.'!B29*1000,0) -> 0 | P14: =IF('CIRC 01.'!H29=25,'CIRC 01.'!B29*1000,0) -> 0 | R14: =IF('CIRC 01.'!H29=16,'CIRC 01.'!B29*1000,0) -> 0 | T14: =IF('CIRC 01.'!H29=10,'CIRC 01.'!B29*1000,0) -> 137 | V14: =IF('CIRC 01.'!H29=6,'CIRC 01.'!B29*1000,0) -> 0 | X14: =IF('CIRC 01.'!H29=4,'CIRC 01.'!B29*1000,0) -> 0
A15: cabo 95 | B15: =I5*1.05 -> #REF! | C15: =B15*2 -> #REF! | D15: =B15*3 -> #REF! | E15: =SUM(B21:B23) -> #REF! | G15: ='CIRC 01.'!A31 -> 0 | H15: =IF('CIRC 01.'!H31=95,'CIRC 01.'!B31*1000,0) -> 0 | J15: =IF('CIRC 01.'!H31=70,'CIRC 01.'!B31*1000,0) -> 0 | L15: =IF('CIRC 01.'!H31=50,'CIRC 01.'!B31*1000,0) -> 0 | N15: =IF('CIRC 01.'!H31=35,'CIRC 01.'!B31*1000,0) -> 0 | P15: =IF('CIRC 01.'!H31=25,'CIRC 01.'!B31*1000,0) -> 0 | R15: =IF('CIRC 01.'!H31=16,'CIRC 01.'!B31*1000,0) -> 0 | T15: =IF('CIRC 01.'!H31=10,'CIRC 01.'!B31*1000,0) -> 0 | V15: =IF('CIRC 01.'!H31=6,'CIRC 01.'!B31*1000,0) -> 0 | X15: =IF('CIRC 01.'!H31=4,'CIRC 01.'!B31*1000,0) -> 0
A16: cabo 70 | B16: =K5*1.05 -> #REF! | C16: =B16*2 -> #REF! | D16: =B16*3 -> #REF! | G16: ='CIRC 01.'!A32 -> CIRCUITO DA TORRE 04 COM 10 REFLETORES LED DE 600W | H16: =IF('CIRC 01.'!H32=95,'CIRC 01.'!B32*1000,0) -> 0 | J16: =IF('CIRC 01.'!H32=70,'CIRC 01.'!B32*1000,0) -> 0 | L16: =IF('CIRC 01.'!H32=50,'CIRC 01.'!B32*1000,0) -> 0 | N16: =IF('CIRC 01.'!H32=35,'CIRC 01.'!B32*1000,0) -> 0 | P16: =IF('CIRC 01.'!H32=25,'CIRC 01.'!B32*1000,0) -> 0 | R16: =IF('CIRC 01.'!H32=16,'CIRC 01.'!B32*1000,0) -> 0 | T16: =IF('CIRC 01.'!H32=10,'CIRC 01.'!B32*1000,0) -> 0 | V16: =IF('CIRC 01.'!H32=6,'CIRC 01.'!B32*1000,0) -> 0 | X16: =IF('CIRC 01.'!H32=4,'CIRC 01.'!B32*1000,0) -> 0
A17: cabo 50 | B17: =M5*1.05 -> #REF! | C17: =B17*2 -> #REF! | D17: =B17*3 -> #REF! | G17: ='CIRC 01.'!A33 -> QDL - T4 | H17: =IF('CIRC 01.'!H33=95,'CIRC 01.'!B33*1000,0) -> 0 | J17: =IF('CIRC 01.'!H33=70,'CIRC 01.'!B33*1000,0) -> 0 | L17: =IF('CIRC 01.'!H33=50,'CIRC 01.'!B33*1000,0) -> 0 | N17: =IF('CIRC 01.'!H33=35,'CIRC 01.'!B33*1000,0) -> 0 | P17: =IF('CIRC 01.'!H33=25,'CIRC 01.'!B33*1000,0) -> 0 | R17: =IF('CIRC 01.'!H33=16,'CIRC 01.'!B33*1000,0) -> 185 | T17: =IF('CIRC 01.'!H33=10,'CIRC 01.'!B33*1000,0) -> 0 | V17: =IF('CIRC 01.'!H33=6,'CIRC 01.'!B33*1000,0) -> 0 | X17: =IF('CIRC 01.'!H33=4,'CIRC 01.'!B33*1000,0) -> 0
A18: cabo 35 | B18: =O5*1.05 -> #REF! | C18: =B18*2 -> #REF! | D18: =B18*3 -> #REF! | G18: ='CIRC 01.'!#REF! -> #REF! | H18: =IF('CIRC 01.'!#REF!=95,'CIRC 01.'!#REF!*1000,0) -> #REF! | J18: =IF('CIRC 01.'!#REF!=70,'CIRC 01.'!#REF!*1000,0) -> #REF! | L18: =IF('CIRC 01.'!#REF!=50,'CIRC 01.'!#REF!*1000,0) -> #REF! | N18: =IF('CIRC 01.'!#REF!=35,'CIRC 01.'!#REF!*1000,0) -> #REF! | P18: =IF('CIRC 01.'!#REF!=25,'CIRC 01.'!#REF!*1000,0) -> #REF! | R18: =IF('CIRC 01.'!#REF!=16,'CIRC 01.'!#REF!*1000,0) -> #REF! | T18: =IF('CIRC 01.'!#REF!=10,'CIRC 01.'!#REF!*1000,0) -> #REF! | V18: =IF('CIRC 01.'!#REF!=6,'CIRC 01.'!#REF!*1000,0) -> #REF! | X18: =IF('CIRC 01.'!#REF!=4,'CIRC 01.'!#REF!*1000,0) -> #REF!
A19: cabo 25 | B19: =Q5*1.05 -> #REF! | C19: =B19*2 -> #REF! | D19: =B19*3 -> #REF! | G19: ='CIRC 01.'!#REF! -> #REF! | H19: =IF('CIRC 01.'!#REF!=95,'CIRC 01.'!#REF!*1000,0) -> #REF! | J19: =IF('CIRC 01.'!#REF!=70,'CIRC 01.'!#REF!*1000,0) -> #REF! | L19: =IF('CIRC 01.'!#REF!=50,'CIRC 01.'!#REF!*1000,0) -> #REF! | N19: =IF('CIRC 01.'!#REF!=35,'CIRC 01.'!#REF!*1000,0) -> #REF! | P19: =IF('CIRC 01.'!#REF!=25,'CIRC 01.'!#REF!*1000,0) -> #REF! | R19: =IF('CIRC 01.'!#REF!=16,'CIRC 01.'!#REF!*1000,0) -> #REF! | T19: =IF('CIRC 01.'!#REF!=10,'CIRC 01.'!#REF!*1000,0) -> #REF! | V19: =IF('CIRC 01.'!#REF!=6,'CIRC 01.'!#REF!*1000,0) -> #REF! | X19: =IF('CIRC 01.'!#REF!=4,'CIRC 01.'!#REF!*1000,0) -> #REF!
A20: cabo 16 | B20: =S5*1.05 -> #REF! | C20: =B20*2 -> #REF! | D20: =B20*3 -> #REF! | G20: ='CIRC 01.'!#REF! -> #REF! | H20: =IF('CIRC 01.'!#REF!=95,'CIRC 01.'!#REF!*1000,0) -> #REF! | J20: =IF('CIRC 01.'!#REF!=70,'CIRC 01.'!#REF!*1000,0) -> #REF! | L20: =IF('CIRC 01.'!#REF!=50,'CIRC 01.'!#REF!*1000,0) -> #REF! | N20: =IF('CIRC 01.'!#REF!=35,'CIRC 01.'!#REF!*1000,0) -> #REF! | P20: =IF('CIRC 01.'!#REF!=25,'CIRC 01.'!#REF!*1000,0) -> #REF! | R20: =IF('CIRC 01.'!#REF!=16,'CIRC 01.'!#REF!*1000,0) -> #REF! | T20: =IF('CIRC 01.'!#REF!=10,'CIRC 01.'!#REF!*1000,0) -> #REF! | V20: =IF('CIRC 01.'!#REF!=6,'CIRC 01.'!#REF!*1000,0) -> #REF! | X20: =IF('CIRC 01.'!#REF!=4,'CIRC 01.'!#REF!*1000,0) -> #REF!
A21: cabo 10 | B21: =U5*1.05 -> #REF! | C21: =B21*2 -> #REF! | D21: =B21*3 -> #REF! | E21: =B21*4 -> #REF! | G21: ='CIRC 01.'!#REF! -> #REF! | H21: =IF('CIRC 01.'!#REF!=95,'CIRC 01.'!#REF!*1000,0) -> #REF! | J21: =IF('CIRC 01.'!#REF!=70,'CIRC 01.'!#REF!*1000,0) -> #REF! | L21: =IF('CIRC 01.'!#REF!=50,'CIRC 01.'!#REF!*1000,0) -> #REF! | N21: =IF('CIRC 01.'!#REF!=35,'CIRC 01.'!#REF!*1000,0) -> #REF! | P21: =IF('CIRC 01.'!#REF!=25,'CIRC 01.'!#REF!*1000,0) -> #REF! | R21: =IF('CIRC 01.'!#REF!=16,'CIRC 01.'!#REF!*1000,0) -> #REF! | T21: =IF('CIRC 01.'!#REF!=10,'CIRC 01.'!#REF!*1000,0) -> #REF! | V21: =IF('CIRC 01.'!#REF!=6,'CIRC 01.'!#REF!*1000,0) -> #REF! | X21: =IF('CIRC 01.'!#REF!=4,'CIRC 01.'!#REF!*1000,0) -> #REF!
A22: cabo 6 | B22: =W5*1.05 -> #REF! | C22: =B22*2 -> #REF! | D22: =B22*3 -> #REF! | E22: =B22*4 -> #REF! | G22: ='CIRC 01.'!#REF! -> #REF! | H22: =IF('CIRC 01.'!#REF!=95,'CIRC 01.'!#REF!*1000,0) -> #REF! | J22: =IF('CIRC 01.'!#REF!=70,'CIRC 01.'!#REF!*1000,0) -> #REF! | L22: =IF('CIRC 01.'!#REF!=50,'CIRC 01.'!#REF!*1000,0) -> #REF! | N22: =IF('CIRC 01.'!#REF!=35,'CIRC 01.'!#REF!*1000,0) -> #REF! | P22: =IF('CIRC 01.'!#REF!=25,'CIRC 01.'!#REF!*1000,0) -> #REF! | R22: =IF('CIRC 01.'!#REF!=16,'CIRC 01.'!#REF!*1000,0) -> #REF! | T22: =IF('CIRC 01.'!#REF!=10,'CIRC 01.'!#REF!*1000,0) -> #REF! | V22: =IF('CIRC 01.'!#REF!=6,'CIRC 01.'!#REF!*1000,0) -> #REF! | X22: =IF('CIRC 01.'!#REF!=4,'CIRC 01.'!#REF!*1000,0) -> #REF!
A23: cabo 4 | B23: =Y5*1.05 -> #REF! | C23: =B23*2 -> #REF! | D23: =B23*3 -> #REF! | E23: =B23*4 -> #REF! | G23: ='CIRC 01.'!#REF! -> #REF! | H23: =IF('CIRC 01.'!#REF!=95,'CIRC 01.'!#REF!*1000,0) -> #REF! | J23: =IF('CIRC 01.'!#REF!=70,'CIRC 01.'!#REF!*1000,0) -> #REF! | L23: =IF('CIRC 01.'!#REF!=50,'CIRC 01.'!#REF!*1000,0) -> #REF! | N23: =IF('CIRC 01.'!#REF!=35,'CIRC 01.'!#REF!*1000,0) -> #REF! | P23: =IF('CIRC 01.'!#REF!=25,'CIRC 01.'!#REF!*1000,0) -> #REF! | R23: =IF('CIRC 01.'!#REF!=16,'CIRC 01.'!#REF!*1000,0) -> #REF! | T23: =IF('CIRC 01.'!#REF!=10,'CIRC 01.'!#REF!*1000,0) -> #REF! | V23: =IF('CIRC 01.'!#REF!=6,'CIRC 01.'!#REF!*1000,0) -> #REF! | X23: =IF('CIRC 01.'!#REF!=4,'CIRC 01.'!#REF!*1000,0) -> #REF!
A24: Subida dos Postes (m) | G24: ='CIRC 01.'!#REF! -> #REF! | H24: =IF('CIRC 01.'!#REF!=95,'CIRC 01.'!#REF!*1000,0) -> #REF! | J24: =IF('CIRC 01.'!#REF!=70,'CIRC 01.'!#REF!*1000,0) -> #REF! | L24: =IF('CIRC 01.'!#REF!=50,'CIRC 01.'!#REF!*1000,0) -> #REF! | N24: =IF('CIRC 01.'!#REF!=35,'CIRC 01.'!#REF!*1000,0) -> #REF! | P24: =IF('CIRC 01.'!#REF!=25,'CIRC 01.'!#REF!*1000,0) -> #REF! | R24: =IF('CIRC 01.'!#REF!=16,'CIRC 01.'!#REF!*1000,0) -> #REF! | T24: =IF('CIRC 01.'!#REF!=10,'CIRC 01.'!#REF!*1000,0) -> #REF! | V24: =IF('CIRC 01.'!#REF!=6,'CIRC 01.'!#REF!*1000,0) -> #REF! | X24: =IF('CIRC 01.'!#REF!=4,'CIRC 01.'!#REF!*1000,0) -> #REF!
A25: cabo 4 | B25: =11*2*9*1.05 -> 207.9 | G25: ='CIRC 01.'!#REF! -> #REF! | H25: =IF('CIRC 01.'!#REF!=95,'CIRC 01.'!#REF!*1000,0) -> #REF! | J25: =IF('CIRC 01.'!#REF!=70,'CIRC 01.'!#REF!*1000,0) -> #REF! | L25: =IF('CIRC 01.'!#REF!=50,'CIRC 01.'!#REF!*1000,0) -> #REF! | N25: =IF('CIRC 01.'!#REF!=35,'CIRC 01.'!#REF!*1000,0) -> #REF! | P25: =IF('CIRC 01.'!#REF!=25,'CIRC 01.'!#REF!*1000,0) -> #REF! | R25: =IF('CIRC 01.'!#REF!=16,'CIRC 01.'!#REF!*1000,0) -> #REF! | T25: =IF('CIRC 01.'!#REF!=10,'CIRC 01.'!#REF!*1000,0) -> #REF! | V25: =IF('CIRC 01.'!#REF!=6,'CIRC 01.'!#REF!*1000,0) -> #REF! | X25: =IF('CIRC 01.'!#REF!=4,'CIRC 01.'!#REF!*1000,0) -> #REF!
A26: cabo 2,5 | B26: =11*4*3*1.05 -> 138.6 | G26: ='CIRC 01.'!#REF! -> #REF! | H26: =IF('CIRC 01.'!#REF!=95,'CIRC 01.'!#REF!*1000,0) -> #REF! | J26: =IF('CIRC 01.'!#REF!=70,'CIRC 01.'!#REF!*1000,0) -> #REF! | L26: =IF('CIRC 01.'!#REF!=50,'CIRC 01.'!#REF!*1000,0) -> #REF! | N26: =IF('CIRC 01.'!#REF!=35,'CIRC 01.'!#REF!*1000,0) -> #REF! | P26: =IF('CIRC 01.'!#REF!=25,'CIRC 01.'!#REF!*1000,0) -> #REF! | R26: =IF('CIRC 01.'!#REF!=16,'CIRC 01.'!#REF!*1000,0) -> #REF! | T26: =IF('CIRC 01.'!#REF!=10,'CIRC 01.'!#REF!*1000,0) -> #REF! | V26: =IF('CIRC 01.'!#REF!=6,'CIRC 01.'!#REF!*1000,0) -> #REF! | X26: =IF('CIRC 01.'!#REF!=4,'CIRC 01.'!#REF!*1000,0) -> #REF!
A27: Eletrodutos | C27: comp. (m) | D27: barras de 6m | E27: de #6 a #16 - 1 1/4'' | G27: ='CIRC 01.'!#REF! -> #REF! | H27: =IF('CIRC 01.'!#REF!=95,'CIRC 01.'!#REF!*1000,0) -> #REF! | J27: =IF('CIRC 01.'!#REF!=70,'CIRC 01.'!#REF!*1000,0) -> #REF! | L27: =IF('CIRC 01.'!#REF!=50,'CIRC 01.'!#REF!*1000,0) -> #REF! | N27: =IF('CIRC 01.'!#REF!=35,'CIRC 01.'!#REF!*1000,0) -> #REF! | P27: =IF('CIRC 01.'!#REF!=25,'CIRC 01.'!#REF!*1000,0) -> #REF! | R27: =IF('CIRC 01.'!#REF!=16,'CIRC 01.'!#REF!*1000,0) -> #REF! | T27: =IF('CIRC 01.'!#REF!=10,'CIRC 01.'!#REF!*1000,0) -> #REF! | V27: =IF('CIRC 01.'!#REF!=6,'CIRC 01.'!#REF!*1000,0) -> #REF! | X27: =IF('CIRC 01.'!#REF!=4,'CIRC 01.'!#REF!*1000,0) -> #REF!
A28: eletroduto FG 1 1/4'' | B28: 26 | C28: =B28*1.05 -> 27.3 | D28: =CEILING(C28/6,1) -> 5 | E28: de #25 a #35 - 1 1/2'' | G28: ='CIRC 01.'!#REF! -> #REF! | H28: =IF('CIRC 01.'!#REF!=95,'CIRC 01.'!#REF!*1000,0) -> #REF! | J28: =IF('CIRC 01.'!#REF!=70,'CIRC 01.'!#REF!*1000,0) -> #REF! | L28: =IF('CIRC 01.'!#REF!=50,'CIRC 01.'!#REF!*1000,0) -> #REF! | N28: =IF('CIRC 01.'!#REF!=35,'CIRC 01.'!#REF!*1000,0) -> #REF! | P28: =IF('CIRC 01.'!#REF!=25,'CIRC 01.'!#REF!*1000,0) -> #REF! | R28: =IF('CIRC 01.'!#REF!=16,'CIRC 01.'!#REF!*1000,0) -> #REF! | T28: =IF('CIRC 01.'!#REF!=10,'CIRC 01.'!#REF!*1000,0) -> #REF! | V28: =IF('CIRC 01.'!#REF!=6,'CIRC 01.'!#REF!*1000,0) -> #REF! | X28: =IF('CIRC 01.'!#REF!=4,'CIRC 01.'!#REF!*1000,0) -> #REF!
A29: eletroduto FG 1 1/2'' | B29: 10.95 | C29: =B29*1.05 -> 11.4975 | D29: =CEILING(C29/6,1) -> 2 | E29: de #50 a #70 - 2'' | G29: ='CIRC 01.'!#REF! -> #REF! | H29: =IF('CIRC 01.'!#REF!=95,'CIRC 01.'!#REF!*1000,0) -> #REF! | J29: =IF('CIRC 01.'!#REF!=70,'CIRC 01.'!#REF!*1000,0) -> #REF! | L29: =IF('CIRC 01.'!#REF!=50,'CIRC 01.'!#REF!*1000,0) -> #REF! | N29: =IF('CIRC 01.'!#REF!=35,'CIRC 01.'!#REF!*1000,0) -> #REF! | P29: =IF('CIRC 01.'!#REF!=25,'CIRC 01.'!#REF!*1000,0) -> #REF! | R29: =IF('CIRC 01.'!#REF!=16,'CIRC 01.'!#REF!*1000,0) -> #REF! | T29: =IF('CIRC 01.'!#REF!=10,'CIRC 01.'!#REF!*1000,0) -> #REF! | V29: =IF('CIRC 01.'!#REF!=6,'CIRC 01.'!#REF!*1000,0) -> #REF! | X29: =IF('CIRC 01.'!#REF!=4,'CIRC 01.'!#REF!*1000,0) -> #REF!
A30: eletroduto FG 2'' | C30: =B30*1.05 -> 0 | D30: =CEILING(C30/6,1) -> 0 | E30: de #6 a #16 - 1 1/4'' | G30: ='CIRC 01.'!A37 -> 0 | H30: =IF('CIRC 01.'!H37=95,'CIRC 01.'!B37*1000,0) -> 0 | J30: =IF('CIRC 01.'!H37=70,'CIRC 01.'!B37*1000,0) -> 0 | L30: =IF('CIRC 01.'!H37=50,'CIRC 01.'!B37*1000,0) -> 0 | N30: =IF('CIRC 01.'!H37=35,'CIRC 01.'!B37*1000,0) -> 0 | P30: =IF('CIRC 01.'!H37=25,'CIRC 01.'!B37*1000,0) -> 0 | R30: =IF('CIRC 01.'!H37=16,'CIRC 01.'!B37*1000,0) -> 0 | T30: =IF('CIRC 01.'!H37=10,'CIRC 01.'!B37*1000,0) -> 0 | V30: =IF('CIRC 01.'!H37=6,'CIRC 01.'!B37*1000,0) -> 0 | X30: =IF('CIRC 01.'!H37=4,'CIRC 01.'!B37*1000,0) -> 0
A31: eletroduto PVC 1 1/4'' | B31: 245 | C31: =B31*1.05 -> 257.25 | E31: de #25 a #35 - 1 1/2'' | G31: ='CIRC 01.'!A38 -> DEMANDA NOTURNA = 34.400W | H31: =IF('CIRC 01.'!H38=95,'CIRC 01.'!B38*1000,0) -> 0 | J31: =IF('CIRC 01.'!H38=70,'CIRC 01.'!B38*1000,0) -> 0 | L31: =IF('CIRC 01.'!H38=50,'CIRC 01.'!B38*1000,0) -> 0 | N31: =IF('CIRC 01.'!H38=35,'CIRC 01.'!B38*1000,0) -> 0 | P31: =IF('CIRC 01.'!H38=25,'CIRC 01.'!B38*1000,0) -> 0 | R31: =IF('CIRC 01.'!H38=16,'CIRC 01.'!B38*1000,0) -> 0 | T31: =IF('CIRC 01.'!H38=10,'CIRC 01.'!B38*1000,0) -> 0 | V31: =IF('CIRC 01.'!H38=6,'CIRC 01.'!B38*1000,0) -> 0 | X31: =IF('CIRC 01.'!H38=4,'CIRC 01.'!B38*1000,0) -> 0
A32: eletroduto PVC 1 1/2'' | C32: =B32*1.05 -> 0 | E32: de #50 a #70 - 2'' | G32: ='CIRC 01.'!A39 -> PREPARADO POR________________________ VISTO_____________DATA ____/____/________ | H32: =IF('CIRC 01.'!H39=95,'CIRC 01.'!B39*1000,0) -> 0 | J32: =IF('CIRC 01.'!H39=70,'CIRC 01.'!B39*1000,0) -> 0 | L32: =IF('CIRC 01.'!H39=50,'CIRC 01.'!B39*1000,0) -> 0 | N32: =IF('CIRC 01.'!H39=35,'CIRC 01.'!B39*1000,0) -> 0 | P32: =IF('CIRC 01.'!H39=25,'CIRC 01.'!B39*1000,0) -> 0 | R32: =IF('CIRC 01.'!H39=16,'CIRC 01.'!B39*1000,0) -> 0 | T32: =IF('CIRC 01.'!H39=10,'CIRC 01.'!B39*1000,0) -> 0 | V32: =IF('CIRC 01.'!H39=6,'CIRC 01.'!B39*1000,0) -> 0 | X32: =IF('CIRC 01.'!H39=4,'CIRC 01.'!B39*1000,0) -> 0
A33: eletroduto PVC 2'' | C33: =B33*1.05 -> 0 | G33: ='CIRC 01.'!A40 -> 0 | H33: =IF('CIRC 01.'!H40=95,'CIRC 01.'!B40*1000,0) -> 0 | J33: =IF('CIRC 01.'!H40=70,'CIRC 01.'!B40*1000,0) -> 0 | L33: =IF('CIRC 01.'!H40=50,'CIRC 01.'!B40*1000,0) -> 0 | N33: =IF('CIRC 01.'!H40=35,'CIRC 01.'!B40*1000,0) -> 0 | P33: =IF('CIRC 01.'!H40=25,'CIRC 01.'!B40*1000,0) -> 0 | R33: =IF('CIRC 01.'!H40=16,'CIRC 01.'!B40*1000,0) -> 0 | T33: =IF('CIRC 01.'!H40=10,'CIRC 01.'!B40*1000,0) -> 0 | V33: =IF('CIRC 01.'!H40=6,'CIRC 01.'!B40*1000,0) -> 0 | X33: =IF('CIRC 01.'!H40=4,'CIRC 01.'!B40*1000,0) -> 0
A34: total em escavação | B34: =SUM(B28:B33) -> 281.95 | G34: ='CIRC 01.'!A41 -> 0 | H34: =IF('CIRC 01.'!H41=95,'CIRC 01.'!B41*1000,0) -> 0 | J34: =IF('CIRC 01.'!H41=70,'CIRC 01.'!B41*1000,0) -> 0 | L34: =IF('CIRC 01.'!H41=50,'CIRC 01.'!B41*1000,0) -> 0 | N34: =IF('CIRC 01.'!H41=35,'CIRC 01.'!B41*1000,0) -> 0 | P34: =IF('CIRC 01.'!H41=25,'CIRC 01.'!B41*1000,0) -> 0 | R34: =IF('CIRC 01.'!H41=16,'CIRC 01.'!B41*1000,0) -> 0 | T34: =IF('CIRC 01.'!H41=10,'CIRC 01.'!B41*1000,0) -> 0 | V34: =IF('CIRC 01.'!H41=6,'CIRC 01.'!B41*1000,0) -> 0 | X34: =IF('CIRC 01.'!H41=4,'CIRC 01.'!B41*1000,0) -> 0
A35: Proteção e comando | E35: Pot. (W) | G35: ='CIRC 01.'!A42 -> 0 | H35: =IF('CIRC 01.'!H42=95,'CIRC 01.'!B42*1000,0) -> 0 | J35: =IF('CIRC 01.'!H42=70,'CIRC 01.'!B42*1000,0) -> 0 | L35: =IF('CIRC 01.'!H42=50,'CIRC 01.'!B42*1000,0) -> 0 | N35: =IF('CIRC 01.'!H42=35,'CIRC 01.'!B42*1000,0) -> 0 | P35: =IF('CIRC 01.'!H42=25,'CIRC 01.'!B42*1000,0) -> 0 | R35: =IF('CIRC 01.'!H42=16,'CIRC 01.'!B42*1000,0) -> 0 | T35: =IF('CIRC 01.'!H42=10,'CIRC 01.'!B42*1000,0) -> 0 | V35: =IF('CIRC 01.'!H42=6,'CIRC 01.'!B42*1000,0) -> 0 | X35: =IF('CIRC 01.'!H42=4,'CIRC 01.'!B42*1000,0) -> 0
B36: corrente 20% | C36: Valor de M. | E36: ='CIRC 01.'!C17 -> 0 | G36: ='CIRC 01.'!A43 -> 0 | H36: =IF('CIRC 01.'!H43=95,'CIRC 01.'!B43*1000,0) -> 0 | J36: =IF('CIRC 01.'!H43=70,'CIRC 01.'!B43*1000,0) -> 0 | L36: =IF('CIRC 01.'!H43=50,'CIRC 01.'!B43*1000,0) -> 0 | N36: =IF('CIRC 01.'!H43=35,'CIRC 01.'!B43*1000,0) -> 0 | P36: =IF('CIRC 01.'!H43=25,'CIRC 01.'!B43*1000,0) -> 0 | R36: =IF('CIRC 01.'!H43=16,'CIRC 01.'!B43*1000,0) -> 0 | T36: =IF('CIRC 01.'!H43=10,'CIRC 01.'!B43*1000,0) -> 0 | V36: =IF('CIRC 01.'!H43=6,'CIRC 01.'!B43*1000,0) -> 0 | X36: =IF('CIRC 01.'!H43=4,'CIRC 01.'!B43*1000,0) -> 0
A37: Corrente Max. (A) | B37: =CEILING('CIRC 01.'!F18,1) -> 108 | D37: trifásico | G37: ='CIRC 01.'!A44 -> 0 | H37: =IF('CIRC 01.'!H44=95,'CIRC 01.'!B44*1000,0) -> 0 | J37: =IF('CIRC 01.'!H44=70,'CIRC 01.'!B44*1000,0) -> 0 | L37: =IF('CIRC 01.'!H44=50,'CIRC 01.'!B44*1000,0) -> 0 | N37: =IF('CIRC 01.'!H44=35,'CIRC 01.'!B44*1000,0) -> 0 | P37: =IF('CIRC 01.'!H44=25,'CIRC 01.'!B44*1000,0) -> 0 | R37: =IF('CIRC 01.'!H44=16,'CIRC 01.'!B44*1000,0) -> 0 | T37: =IF('CIRC 01.'!H44=10,'CIRC 01.'!B44*1000,0) -> 0 | V37: =IF('CIRC 01.'!H44=6,'CIRC 01.'!B44*1000,0) -> 0 | X37: =IF('CIRC 01.'!H44=4,'CIRC 01.'!B44*1000,0) -> 0
A38: disjuntor | B38: =B37*1.2 -> 129.6 | C38: 32A | D38: trifásico | G38: ='CIRC 01.'!A45 -> 0 | H38: =IF('CIRC 01.'!H45=95,'CIRC 01.'!B45*1000,0) -> 0 | J38: =IF('CIRC 01.'!H45=70,'CIRC 01.'!B45*1000,0) -> 0 | L38: =IF('CIRC 01.'!H42=50,'CIRC 01.'!B42*1000,0) -> 0 | N38: =IF('CIRC 01.'!H45=35,'CIRC 01.'!B45*1000,0) -> 0 | P38: =IF('CIRC 01.'!H42=25,'CIRC 01.'!B42*1000,0) -> 0 | R38: =IF('CIRC 01.'!H45=16,'CIRC 01.'!B45*1000,0) -> 0 | T38: =IF('CIRC 01.'!H45=10,'CIRC 01.'!B45*1000,0) -> 0 | V38: =IF('CIRC 01.'!H45=6,'CIRC 01.'!B45*1000,0) -> 0 | X38: =IF('CIRC 01.'!H45=4,'CIRC 01.'!B45*1000,0) -> 0
A39: contator | B39: =B37*1.4 -> 151.2 | C39: 38A | D39: trifásico | G39: ='CIRC 01.'!A43 -> 0 | H39: =IF('CIRC 01.'!H46=95,'CIRC 01.'!B46*1000,0) -> 0 | J39: =IF('CIRC 01.'!H46=70,'CIRC 01.'!B46*1000,0) -> 0 | L39: =IF('CIRC 01.'!H43=50,'CIRC 01.'!B43*1000,0) -> 0 | N39: =IF('CIRC 01.'!H46=35,'CIRC 01.'!B46*1000,0) -> 0 | P39: =IF('CIRC 01.'!H43=25,'CIRC 01.'!B43*1000,0) -> 0 | R39: =IF('CIRC 01.'!H43=16,'CIRC 01.'!B43*1000,0) -> 0 | T39: =IF('CIRC 01.'!H46=10,'CIRC 01.'!B46*1000,0) -> 0 | V39: =IF('CIRC 01.'!H46=6,'CIRC 01.'!B46*1000,0) -> 0 | X39: =IF('CIRC 01.'!H46=4,'CIRC 01.'!B46*1000,0) -> 0
A40: Fus. NH retaredado | B40: =B37 -> 108 | C40: 25A | D40: NH00 | G40: ='CIRC 01.'!A44 -> 0 | H40: =IF('CIRC 01.'!H47=95,'CIRC 01.'!B47*1000,0) -> 0 | J40: =IF('CIRC 01.'!H47=70,'CIRC 01.'!B47*1000,0) -> 0 | L40: =IF('CIRC 01.'!H44=50,'CIRC 01.'!B44*1000,0) -> 0 | N40: =IF('CIRC 01.'!H47=35,'CIRC 01.'!B47*1000,0) -> 0 | P40: =IF('CIRC 01.'!H44=25,'CIRC 01.'!B44*1000,0) -> 0 | R40: =IF('CIRC 01.'!H44=16,'CIRC 01.'!B44*1000,0) -> 0 | T40: =IF('CIRC 01.'!H47=10,'CIRC 01.'!B47*1000,0) -> 0 | V40: =IF('CIRC 01.'!H47=6,'CIRC 01.'!B47*1000,0) -> 0 | X40: =IF('CIRC 01.'!H47=4,'CIRC 01.'!B47*1000,0) -> 0
G41: ='CIRC 01.'!A45 -> 0 | H41: =IF('CIRC 01.'!H48=95,'CIRC 01.'!B48*1000,0) -> 0 | J41: =IF('CIRC 01.'!H48=70,'CIRC 01.'!B48*1000,0) -> 0 | L41: =IF('CIRC 01.'!H45=50,'CIRC 01.'!B45*1000,0) -> 0 | N41: =IF('CIRC 01.'!H48=35,'CIRC 01.'!B48*1000,0) -> 0 | P41: =IF('CIRC 01.'!H45=25,'CIRC 01.'!B45*1000,0) -> 0 | R41: =IF('CIRC 01.'!H45=16,'CIRC 01.'!B45*1000,0) -> 0 | T41: =IF('CIRC 01.'!H48=10,'CIRC 01.'!B48*1000,0) -> 0 | V41: =IF('CIRC 01.'!H48=6,'CIRC 01.'!B48*1000,0) -> 0 | X41: =IF('CIRC 01.'!H48=4,'CIRC 01.'!B48*1000,0) -> 0
...

Sheet Plan1
A1: Trechos | B1: Cond. #95mm² | D1: Cond. #70mm² | F1: Cond. #50mm² | H1: Cond. #35mm² | J1: Cond. #25mm² | L1: Cond. #16mm² | N1: Cond. #10mm² | P1: Cond. #6mm²
B2: comp. (m) | C2: total | D2: comp. (m) | E2: total | F2: comp. (m) | G2: total | H2: comp. (m) | I2: total | J2: comp. (m) | K2: total | L2: comp. (m) | M2: total | N2: comp. (m) | O2: total | P2: comp. (m) | Q2: total
A3: ='CIRC 01.'!A17 -> 0 | B3: =IF('CIRC 01.'!H17=95,'CIRC 01.'!B17*1000,0) -> 0 | C3: =SUM(B3:B45) -> #REF! | D3: =IF('CIRC 01.'!H17=70,'CIRC 01.'!B17*1000,0) -> 0 | E3: =SUM(D3:D45) -> #REF! | F3: =IF('CIRC 01.'!H17=50,'CIRC 01.'!B17*1000,0) -> 0 | G3: =SUM(F3:F45) -> #REF! | H3: =IF('CIRC 01.'!H17=35,'CIRC 01.'!B17*1000,0) -> 0 | I3: =SUM(H3:H45) -> #REF! | J3: =IF('CIRC 01.'!J17=25,'CIRC 01.'!D17*1000,0) -> 0 | K3: =SUM(J3:J45) -> #REF! | L3: =IF('CIRC 01.'!L17=16,'CIRC 01.'!F17*1000,0) -> 0 | M3: =SUM(L3:L45) -> #REF! | N3: =IF('CIRC 01.'!N17=10,'CIRC 01.'!H17*1000,0) -> 0 | O3: =SUM(N3:N45) -> #REF! | P3: =IF('CIRC 01.'!P17=6,'CIRC 01.'!J17*1000,0) -> 0 | Q3: =SUM(P3:P45) -> #REF!
A4: ='CIRC 01.'!A18 -> MED - QDL | B4: =IF('CIRC 01.'!H18=95,'CIRC 01.'!B18*1000,0) -> 0 | D4: =IF('CIRC 01.'!H18=70,'CIRC 01.'!B18*1000,0) -> 0 | F4: =IF('CIRC 01.'!H18=50,'CIRC 01.'!B18*1000,0) -> 0 | H4: =IF('CIRC 01.'!H18=35,'CIRC 01.'!B18*1000,0) -> 1.3 | J4: =IF('CIRC 01.'!J18=25,'CIRC 01.'!D18*1000,0) -> 0 | L4: =IF('CIRC 01.'!L18=16,'CIRC 01.'!F18*1000,0) -> 0 | N4: =IF('CIRC 01.'!N18=10,'CIRC 01.'!H18*1000,0) -> 0 | P4: =IF('CIRC 01.'!P18=6,'CIRC 01.'!J18*1000,0) -> 0
A5: ='CIRC 01.'!A20 -> CIRCUITO DA TORRE 01 COM 10 REFLETORES LED DE 600W | B5: =IF('CIRC 01.'!H20=95,'CIRC 01.'!B20*1000,0) -> 0 | D5: =IF('CIRC 01.'!H20=70,'CIRC 01.'!B20*1000,0) -> 0 | F5: =IF('CIRC 01.'!H20=50,'CIRC 01.'!B20*1000,0) -> 0 | H5: =IF('CIRC 01.'!H20=35,'CIRC 01.'!B20*1000,0) -> 0 | J5: =IF('CIRC 01.'!J20=25,'CIRC 01.'!D20*1000,0) -> 0 | L5: =IF('CIRC 01.'!L20=16,'CIRC 01.'!F20*1000,0) -> 0 | N5: =IF('CIRC 01.'!N20=10,'CIRC 01.'!H20*1000,0) -> 0 | P5: =IF('CIRC 01.'!P20=6,'CIRC 01.'!J20*1000,0) -> 0
A6: ='CIRC 01.'!#REF! -> #REF! | B6: =IF('CIRC 01.'!#REF!=95,'CIRC 01.'!#REF!*1000,0) -> #REF! | D6: =IF('CIRC 01.'!#REF!=70,'CIRC 01.'!#REF!*1000,0) -> #REF! | F6: =IF('CIRC 01.'!#REF!=50,'CIRC 01.'!#REF!*1000,0) -> #REF! | H6: =IF('CIRC 01.'!#REF!=35,'CIRC 01.'!#REF!*1000,0) -> #REF! | J6: =IF('CIRC 01.'!#REF!=25,'CIRC 01.'!#REF!*1000,0) -> #REF! | L6: =IF('CIRC 01.'!#REF!=16,'CIRC 01.'!#REF!*1000,0) -> #REF! | N6: =IF('CIRC 01.'!#REF!=10,'CIRC 01.'!#REF!*1000,0) -> #REF! | P6: =IF('CIRC 01.'!#REF!=6,'CIRC 01.'!#REF!*1000,0) -> #REF!
A7: ='CIRC 01.'!A23 -> 0 | B7: =IF('CIRC 01.'!H23=95,'CIRC 01.'!B23*1000,0) -> 0 | D7: =IF('CIRC 01.'!H23=70,'CIRC 01.'!B23*1000,0) -> 0 | F7: =IF('CIRC 01.'!H23=50,'CIRC 01.'!B23*1000,0) -> 0 | H7: =IF('CIRC 01.'!H23=35,'CIRC 01.'!B23*1000,0) -> 0 | J7: =IF('CIRC 01.'!J23=25,'CIRC 01.'!D23*1000,0) -> 0 | L7: =IF('CIRC 01.'!L23=16,'CIRC 01.'!F23*1000,0) -> 0 | N7: =IF('CIRC 01.'!N23=10,'CIRC 01.'!H23*1000,0) -> 0 | P7: =IF('CIRC 01.'!#REF!=6,'CIRC 01.'!J23*1000,0) -> #REF!
A8: ='CIRC 01.'!A24 -> CIRCUITO DA TORRE 02 COM 10 REFLETORES LED DE 600W | B8: =IF('CIRC 01.'!H24=95,'CIRC 01.'!B24*1000,0) -> 0 | D8: =IF('CIRC 01.'!H24=70,'CIRC 01.'!B24*1000,0) -> 0 | F8: =IF('CIRC 01.'!H24=50,'CIRC 01.'!B24*1000,0) -> 0 | H8: =IF('CIRC 01.'!H24=35,'CIRC 01.'!B24*1000,0) -> 0 | J8: =IF('CIRC 01.'!J24=25,'CIRC 01.'!D24*1000,0) -> 0 | L8: =IF('CIRC 01.'!L24=16,'CIRC 01.'!F24*1000,0) -> 0 | N8: =IF('CIRC 01.'!N24=10,'CIRC 01.'!H24*1000,0) -> 0 | P8: =IF('CIRC 01.'!P23=6,'CIRC 01.'!J24*1000,0) -> 0
A9: ='CIRC 01.'!A25 -> QDL - T2 | B9: =IF('CIRC 01.'!H25=95,'CIRC 01.'!B25*1000,0) -> 0 | D9: =IF('CIRC 01.'!H25=70,'CIRC 01.'!B25*1000,0) -> 0 | F9: =IF('CIRC 01.'!H25=50,'CIRC 01.'!B25*1000,0) -> 0 | H9: =IF('CIRC 01.'!H25=35,'CIRC 01.'!B25*1000,0) -> 0 | J9: =IF('CIRC 01.'!J25=25,'CIRC 01.'!D25*1000,0) -> 0 | L9: =IF('CIRC 01.'!L25=16,'CIRC 01.'!F25*1000,0) -> 0 | N9: =IF('CIRC 01.'!N25=10,'CIRC 01.'!H25*1000,0) -> 0 | P9: =IF('CIRC 01.'!P24=6,'CIRC 01.'!J25*1000,0) -> 0
A10: ='CIRC 01.'!A27 -> 0 | B10: =IF('CIRC 01.'!H27=95,'CIRC 01.'!B27*1000,0) -> 0 | D10: =IF('CIRC 01.'!H27=70,'CIRC 01.'!B27*1000,0) -> 0 | F10: =IF('CIRC 01.'!H27=50,'CIRC 01.'!B27*1000,0) -> 0 | H10: =IF('CIRC 01.'!H27=35,'CIRC 01.'!B27*1000,0) -> 0 | J10: =IF('CIRC 01.'!J27=25,'CIRC 01.'!D27*1000,0) -> 0 | L10: =IF('CIRC 01.'!L27=16,'CIRC 01.'!F27*1000,0) -> 0 | N10: =IF('CIRC 01.'!N27=10,'CIRC 01.'!H27*1000,0) -> 0 | P10: =IF('CIRC 01.'!P25=6,'CIRC 01.'!J27*1000,0) -> 0
A11: ='CIRC 01.'!#REF! -> #REF! | B11: =IF('CIRC 01.'!#REF!=95,'CIRC 01.'!#REF!*1000,0) -> #REF! | D11: =IF('CIRC 01.'!#REF!=70,'CIRC 01.'!#REF!*1000,0) -> #REF! | F11: =IF('CIRC 01.'!#REF!=50,'CIRC 01.'!#REF!*1000,0) -> #REF! | H11: =IF('CIRC 01.'!#REF!=35,'CIRC 01.'!#REF!*1000,0) -> #REF! | J11: =IF('CIRC 01.'!#REF!=25,'CIRC 01.'!#REF!*1000,0) -> #REF! | L11: =IF('CIRC 01.'!#REF!=16,'CIRC 01.'!#REF!*1000,0) -> #REF! | N11: =IF('CIRC 01.'!#REF!=10,'CIRC 01.'!#REF!*1000,0) -> #REF! | P11: =IF('CIRC 01.'!P27=6,'CIRC 01.'!#REF!*1000,0) -> 0
A12: ='CIRC 01.'!#REF! -> #REF! | B12: =IF('CIRC 01.'!#REF!=95,'CIRC 01.'!#REF!*1000,0) -> #REF! | D12: =IF('CIRC 01.'!#REF!=70,'CIRC 01.'!#REF!*1000,0) -> #REF! | F12: =IF('CIRC 01.'!#REF!=50,'CIRC 01.'!#REF!*1000,0) -> #REF! | H12: =IF('CIRC 01.'!#REF!=35,'CIRC 01.'!#REF!*1000,0) -> #REF! | J12: =IF('CIRC 01.'!#REF!=25,'CIRC 01.'!#REF!*1000,0) -> #REF! | L12: =IF('CIRC 01.'!#REF!=16,'CIRC 01.'!#REF!*1000,0) -> #REF! | N12: =IF('CIRC 01.'!#REF!=10,'CIRC 01.'!#REF!*1000,0) -> #REF! | P12: =IF('CIRC 01.'!#REF!=6,'CIRC 01.'!#REF!*1000,0) -> #REF!
A13: ='CIRC 01.'!#REF! -> #REF! | B13: =IF('CIRC 01.'!#REF!=95,'CIRC 01.'!#REF!*1000,0) -> #REF! | D13: =IF('CIRC 01.'!#REF!=70,'CIRC 01.'!#REF!*1000,0) -> #REF! | F13: =IF('CIRC 01.'!#REF!=50,'CIRC 01.'!#REF!*1000,0) -> #REF! | H13: =IF('CIRC 01.'!#REF!=35,'CIRC 01.'!#REF!*1000,0) -> #REF! | J13: =IF('CIRC 01.'!#REF!=25,'CIRC 01.'!#REF!*1000,0) -> #REF! | L13: =IF('CIRC 01.'!#REF!=16,'CIRC 01.'!#REF!*1000,0) -> #REF! | N13: =IF('CIRC 01.'!#REF!=10,'CIRC 01.'!#REF!*1000,0) -> #REF! | P13: =IF('CIRC 01.'!#REF!=6,'CIRC 01.'!#REF!*1000,0) -> #REF!
A14: ='CIRC 01.'!#REF! -> #REF! | B14: =IF('CIRC 01.'!#REF!=95,'CIRC 01.'!#REF!*1000,0) -> #REF! | D14: =IF('CIRC 01.'!#REF!=70,'CIRC 01.'!#REF!*1000,0) -> #REF! | F14: =IF('CIRC 01.'!#REF!=50,'CIRC 01.'!#REF!*1000,0) -> #REF! | H14: =IF('CIRC 01.'!#REF!=35,'CIRC 01.'!#REF!*1000,0) -> #REF! | J14: =IF('CIRC 01.'!#REF!=25,'CIRC 01.'!#REF!*1000,0) -> #REF! | L14: =IF('CIRC 01.'!#REF!=16,'CIRC 01.'!#REF!*1000,0) -> #REF! | N14: =IF('CIRC 01.'!#REF!=10,'CIRC 01.'!#REF!*1000,0) -> #REF! | P14: =IF('CIRC 01.'!#REF!=6,'CIRC 01.'!#REF!*1000,0) -> #REF!
A15: ='CIRC 01.'!A31 -> 0 | B15: =IF('CIRC 01.'!H31=95,'CIRC 01.'!B31*1000,0) -> 0 | D15: =IF('CIRC 01.'!H31=70,'CIRC 01.'!B31*1000,0) -> 0 | F15: =IF('CIRC 01.'!H31=50,'CIRC 01.'!B31*1000,0) -> 0 | H15: =IF('CIRC 01.'!H31=35,'CIRC 01.'!B31*1000,0) -> 0 | J15: =IF('CIRC 01.'!J31=25,'CIRC 01.'!D31*1000,0) -> 0 | L15: =IF('CIRC 01.'!L31=16,'CIRC 01.'!F31*1000,0) -> 0 | N15: =IF('CIRC 01.'!N31=10,'CIRC 01.'!H31*1000,0) -> 0 | P15: =IF('CIRC 01.'!P29=6,'CIRC 01.'!J31*1000,0) -> 0
A16: ='CIRC 01.'!#REF! -> #REF! | B16: =IF('CIRC 01.'!#REF!=95,'CIRC 01.'!#REF!*1000,0) -> #REF! | D16: =IF('CIRC 01.'!#REF!=70,'CIRC 01.'!#REF!*1000,0) -> #REF! | F16: =IF('CIRC 01.'!#REF!=50,'CIRC 01.'!#REF!*1000,0) -> #REF! | H16: =IF('CIRC 01.'!#REF!=35,'CIRC 01.'!#REF!*1000,0) -> #REF! | J16: =IF('CIRC 01.'!#REF!=25,'CIRC 01.'!#REF!*1000,0) -> #REF! | L16: =IF('CIRC 01.'!#REF!=16,'CIRC 01.'!#REF!*1000,0) -> #REF! | N16: =IF('CIRC 01.'!#REF!=10,'CIRC 01.'!#REF!*1000,0) -> #REF! | P16: =IF('CIRC 01.'!P31=6,'CIRC 01.'!#REF!*1000,0) -> 0
A17: ='CIRC 01.'!A33 -> QDL - T4 | B17: =IF('CIRC 01.'!H33=95,'CIRC 01.'!B33*1000,0) -> 0 | D17: =IF('CIRC 01.'!H33=70,'CIRC 01.'!B33*1000,0) -> 0 | F17: =IF('CIRC 01.'!H33=50,'CIRC 01.'!B33*1000,0) -> 0 | H17: =IF('CIRC 01.'!H33=35,'CIRC 01.'!B33*1000,0) -> 0 | J17: =IF('CIRC 01.'!J33=25,'CIRC 01.'!D33*1000,0) -> 0 | L17: =IF('CIRC 01.'!L33=16,'CIRC 01.'!F33*1000,0) -> 0 | N17: =IF('CIRC 01.'!N33=10,'CIRC 01.'!H33*1000,0) -> 0 | P17: =IF('CIRC 01.'!P33=6,'CIRC 01.'!J33*1000,0) -> 0
A18: ='CIRC 01.'!#REF! -> #REF! | B18: =IF('CIRC 01.'!#REF!=95,'CIRC 01.'!#REF!*1000,0) -> #REF! | D18: =IF('CIRC 01.'!#REF!=70,'CIRC 01.'!#REF!*1000,0) -> #REF! | F18: =IF('CIRC 01.'!#REF!=50,'CIRC 01.'!#REF!*1000,0) -> #REF! | H18: =IF('CIRC 01.'!#REF!=35,'CIRC 01.'!#REF!*1000,0) -> #REF! | J18: =IF('CIRC 01.'!#REF!=25,'CIRC 01.'!#REF!*1000,0) -> #REF! | L18: =IF('CIRC 01.'!#REF!=16,'CIRC 01.'!#REF!*1000,0) -> #REF! | N18: =IF('CIRC 01.'!#REF!=10,'CIRC 01.'!#REF!*1000,0) -> #REF! | P18: =IF('CIRC 01.'!#REF!=6,'CIRC 01.'!#REF!*1000,0) -> #REF!
A19: ='CIRC 01.'!#REF! -> #REF! | B19: =IF('CIRC 01.'!#REF!=95,'CIRC 01.'!#REF!*1000,0) -> #REF! | D19: =IF('CIRC 01.'!#REF!=70,'CIRC 01.'!#REF!*1000,0) -> #REF! | F19: =IF('CIRC 01.'!#REF!=50,'CIRC 01.'!#REF!*1000,0) -> #REF! | H19: =IF('CIRC 01.'!#REF!=35,'CIRC 01.'!#REF!*1000,0) -> #REF! | J19: =IF('CIRC 01.'!#REF!=25,'CIRC 01.'!#REF!*1000,0) -> #REF! | L19: =IF('CIRC 01.'!#REF!=16,'CIRC 01.'!#REF!*1000,0) -> #REF! | N19: =IF('CIRC 01.'!#REF!=10,'CIRC 01.'!#REF!*1000,0) -> #REF! | P19: =IF('CIRC 01.'!#REF!=6,'CIRC 01.'!#REF!*1000,0) -> #REF!
A20: ='CIRC 01.'!#REF! -> #REF! | B20: =IF('CIRC 01.'!#REF!=95,'CIRC 01.'!#REF!*1000,0) -> #REF! | D20: =IF('CIRC 01.'!#REF!=70,'CIRC 01.'!#REF!*1000,0) -> #REF! | F20: =IF('CIRC 01.'!#REF!=50,'CIRC 01.'!#REF!*1000,0) -> #REF! | H20: =IF('CIRC 01.'!#REF!=35,'CIRC 01.'!#REF!*1000,0) -> #REF! | J20: =IF('CIRC 01.'!#REF!=25,'CIRC 01.'!#REF!*1000,0) -> #REF! | L20: =IF('CIRC 01.'!#REF!=16,'CIRC 01.'!#REF!*1000,0) -> #REF! | N20: =IF('CIRC 01.'!#REF!=10,'CIRC 01.'!#REF!*1000,0) -> #REF! | P20: =IF('CIRC 01.'!#REF!=6,'CIRC 01.'!#REF!*1000,0) -> #REF!
A21: ='CIRC 01.'!#REF! -> #REF! | B21: =IF('CIRC 01.'!#REF!=95,'CIRC 01.'!#REF!*1000,0) -> #REF! | D21: =IF('CIRC 01.'!#REF!=70,'CIRC 01.'!#REF!*1000,0) -> #REF! | F21: =IF('CIRC 01.'!#REF!=50,'CIRC 01.'!#REF!*1000,0) -> #REF! | H21: =IF('CIRC 01.'!#REF!=35,'CIRC 01.'!#REF!*1000,0) -> #REF! | J21: =IF('CIRC 01.'!#REF!=25,'CIRC 01.'!#REF!*1000,0) -> #REF! | L21: =IF('CIRC 01.'!#REF!=16,'CIRC 01.'!#REF!*1000,0) -> #REF! | N21: =IF('CIRC 01.'!#REF!=10,'CIRC 01.'!#REF!*1000,0) -> #REF! | P21: =IF('CIRC 01.'!#REF!=6,'CIRC 01.'!#REF!*1000,0) -> #REF!
A22: ='CIRC 01.'!#REF! -> #REF! | B22: =IF('CIRC 01.'!#REF!=95,'CIRC 01.'!#REF!*1000,0) -> #REF! | D22: =IF('CIRC 01.'!#REF!=70,'CIRC 01.'!#REF!*1000,0) -> #REF! | F22: =IF('CIRC 01.'!#REF!=50,'CIRC 01.'!#REF!*1000,0) -> #REF! | H22: =IF('CIRC 01.'!#REF!=35,'CIRC 01.'!#REF!*1000,0) -> #REF! | J22: =IF('CIRC 01.'!#REF!=25,'CIRC 01.'!#REF!*1000,0) -> #REF! | L22: =IF('CIRC 01.'!#REF!=16,'CIRC 01.'!#REF!*1000,0) -> #REF! | N22: =IF('CIRC 01.'!#REF!=10,'CIRC 01.'!#REF!*1000,0) -> #REF! | P22: =IF('CIRC 01.'!#REF!=6,'CIRC 01.'!#REF!*1000,0) -> #REF!
A23: ='CIRC 01.'!#REF! -> #REF! | B23: =IF('CIRC 01.'!#REF!=95,'CIRC 01.'!#REF!*1000,0) -> #REF! | D23: =IF('CIRC 01.'!#REF!=70,'CIRC 01.'!#REF!*1000,0) -> #REF! | F23: =IF('CIRC 01.'!#REF!=50,'CIRC 01.'!#REF!*1000,0) -> #REF! | H23: =IF('CIRC 01.'!#REF!=35,'CIRC 01.'!#REF!*1000,0) -> #REF! | J23: =IF('CIRC 01.'!#REF!=25,'CIRC 01.'!#REF!*1000,0) -> #REF! | L23: =IF('CIRC 01.'!#REF!=16,'CIRC 01.'!#REF!*1000,0) -> #REF! | N23: =IF('CIRC 01.'!#REF!=10,'CIRC 01.'!#REF!*1000,0) -> #REF! | P23: =IF('CIRC 01.'!#REF!=6,'CIRC 01.'!#REF!*1000,0) -> #REF!
A24: ='CIRC 01.'!#REF! -> #REF! | B24: =IF('CIRC 01.'!#REF!=95,'CIRC 01.'!#REF!*1000,0) -> #REF! | D24: =IF('CIRC 01.'!#REF!=70,'CIRC 01.'!#REF!*1000,0) -> #REF! | F24: =IF('CIRC 01.'!#REF!=50,'CIRC 01.'!#REF!*1000,0) -> #REF! | H24: =IF('CIRC 01.'!#REF!=35,'CIRC 01.'!#REF!*1000,0) -> #REF! | J24: =IF('CIRC 01.'!#REF!=25,'CIRC 01.'!#REF!*1000,0) -> #REF! | L24: =IF('CIRC 01.'!#REF!=16,'CIRC 01.'!#REF!*1000,0) -> #REF! | N24: =IF('CIRC 01.'!#REF!=10,'CIRC 01.'!#REF!*1000,0) -> #REF! | P24: =IF('CIRC 01.'!#REF!=6,'CIRC 01.'!#REF!*1000,0) -> #REF!
A25: ='CIRC 01.'!#REF! -> #REF! | B25: =IF('CIRC 01.'!#REF!=95,'CIRC 01.'!#REF!*1000,0) -> #REF! | D25: =IF('CIRC 01.'!#REF!=70,'CIRC 01.'!#REF!*1000,0) -> #REF! | F25: =IF('CIRC 01.'!#REF!=50,'CIRC 01.'!#REF!*1000,0) -> #REF! | H25: =IF('CIRC 01.'!#REF!=35,'CIRC 01.'!#REF!*1000,0) -> #REF! | J25: =IF('CIRC 01.'!#REF!=25,'CIRC 01.'!#REF!*1000,0) -> #REF! | L25: =IF('CIRC 01.'!#REF!=16,'CIRC 01.'!#REF!*1000,0) -> #REF! | N25: =IF('CIRC 01.'!#REF!=10,'CIRC 01.'!#REF!*1000,0) -> #REF! | P25: =IF('CIRC 01.'!#REF!=6,'CIRC 01.'!#REF!*1000,0) -> #REF!
A26: ='CIRC 01.'!#REF! -> #REF! | B26: =IF('CIRC 01.'!#REF!=95,'CIRC 01.'!#REF!*1000,0) -> #REF! | D26: =IF('CIRC 01.'!#REF!=70,'CIRC 01.'!#REF!*1000,0) -> #REF! | F26: =IF('CIRC 01.'!#REF!=50,'CIRC 01.'!#REF!*1000,0) -> #REF! | H26: =IF('CIRC 01.'!#REF!=35,'CIRC 01.'!#REF!*1000,0) -> #REF! | J26: =IF('CIRC 01.'!#REF!=25,'CIRC 01.'!#REF!*1000,0) -> #REF! | L26: =IF('CIRC 01.'!#REF!=16,'CIRC 01.'!#REF!*1000,0) -> #REF! | N26: =IF('CIRC 01.'!#REF!=10,'CIRC 01.'!#REF!*1000,0) -> #REF! | P26: =IF('CIRC 01.'!#REF!=6,'CIRC 01.'!#REF!*1000,0) -> #REF!
A27: ='CIRC 01.'!#REF! -> #REF! | B27: =IF('CIRC 01.'!#REF!=95,'CIRC 01.'!#REF!*1000,0) -> #REF! | D27: =IF('CIRC 01.'!#REF!=70,'CIRC 01.'!#REF!*1000,0) -> #REF! | F27: =IF('CIRC 01.'!#REF!=50,'CIRC 01.'!#REF!*1000,0) -> #REF! | H27: =IF('CIRC 01.'!#REF!=35,'CIRC 01.'!#REF!*1000,0) -> #REF! | J27: =IF('CIRC 01.'!#REF!=25,'CIRC 01.'!#REF!*1000,0) -> #REF! | L27: =IF('CIRC 01.'!#REF!=16,'CIRC 01.'!#REF!*1000,0) -> #REF! | N27: =IF('CIRC 01.'!#REF!=10,'CIRC 01.'!#REF!*1000,0) -> #REF! | P27: =IF('CIRC 01.'!#REF!=6,'CIRC 01.'!#REF!*1000,0) -> #REF!
A28: ='CIRC 01.'!#REF! -> #REF! | B28: =IF('CIRC 01.'!#REF!=95,'CIRC 01.'!#REF!*1000,0) -> #REF! | D28: =IF('CIRC 01.'!#REF!=70,'CIRC 01.'!#REF!*1000,0) -> #REF! | F28: =IF('CIRC 01.'!#REF!=50,'CIRC 01.'!#REF!*1000,0) -> #REF! | H28: =IF('CIRC 01.'!#REF!=35,'CIRC 01.'!#REF!*1000,0) -> #REF! | J28: =IF('CIRC 01.'!#REF!=25,'CIRC 01.'!#REF!*1000,0) -> #REF! | L28: =IF('CIRC 01.'!#REF!=16,'CIRC 01.'!#REF!*1000,0) -> #REF! | N28: =IF('CIRC 01.'!#REF!=10,'CIRC 01.'!#REF!*1000,0) -> #REF! | P28: =IF('CIRC 01.'!#REF!=6,'CIRC 01.'!#REF!*1000,0) -> #REF!
A29: ='CIRC 01.'!#REF! -> #REF! | B29: =IF('CIRC 01.'!#REF!=95,'CIRC 01.'!#REF!*1000,0) -> #REF! | D29: =IF('CIRC 01.'!#REF!=70,'CIRC 01.'!#REF!*1000,0) -> #REF! | F29: =IF('CIRC 01.'!#REF!=50,'CIRC 01.'!#REF!*1000,0) -> #REF! | H29: =IF('CIRC 01.'!#REF!=35,'CIRC 01.'!#REF!*1000,0) -> #REF! | J29: =IF('CIRC 01.'!#REF!=25,'CIRC 01.'!#REF!*1000,0) -> #REF! | L29: =IF('CIRC 01.'!#REF!=16,'CIRC 01.'!#REF!*1000,0) -> #REF! | N29: =IF('CIRC 01.'!#REF!=10,'CIRC 01.'!#REF!*1000,0) -> #REF! | P29: =IF('CIRC 01.'!#REF!=6,'CIRC 01.'!#REF!*1000,0) -> #REF!
... A61: ='CIRC 01.'!#REF! -> #REF! | B61: =IF('CIRC 01.'!#REF!=95,'CIRC 01.'!#REF!*1000,0) -> #REF! | D61: =IF('CIRC 01.'!#REF!=70,'CIRC 01.'!#REF!*1000,0) -> #REF! | F61: =IF('CIRC 01.'!#REF!=50,'CIRC 01.'!#REF!*1000,0) -> #REF! | H61: =IF('CIRC 01.'!#REF!=35,'CIRC 01.'!#REF!*1000,0) -> #REF! | J61: =IF('CIRC 01.'!#REF!=25,'CIRC 01.'!#REF!*1000,0) -> #REF! | L61: =IF('CIRC 01.'!#REF!=16,'CIRC 01.'!#REF!*1000,0) -> #REF! | N61: =IF('CIRC 01.'!#REF!=10,'CIRC 01.'!#REF!*1000,0) -> #REF! | P61: =IF('CIRC 01.'!#REF!=6,'CIRC 01.'!#REF!*1000,0) -> #REF!
A62: ='CIRC 01.'!#REF! -> #REF! | B62: =IF('CIRC 01.'!H38=95,'CIRC 01.'!B38*1000,0) -> 0 | D62: =IF('CIRC 01.'!H38=70,'CIRC 01.'!B38*1000,0) -> 0 | F62: =IF('CIRC 01.'!H38=50,'CIRC 01.'!B38*1000,0) -> 0 | H62: =IF('CIRC 01.'!H38=35,'CIRC 01.'!B38*1000,0) -> 0 | J62: =IF('CIRC 01.'!J38=25,'CIRC 01.'!D38*1000,0) -> 0 | L62: =IF('CIRC 01.'!L38=16,'CIRC 01.'!F38*1000,0) -> 0 | N62: =IF('CIRC 01.'!N38=10,'CIRC 01.'!H38*1000,0) -> 0 | P62: =IF('CIRC 01.'!P38=6,'CIRC 01.'!J38*1000,0) -> 0
A63: ='CIRC 01.'!#REF! -> #REF! | B63: =IF('CIRC 01.'!H39=95,'CIRC 01.'!B39*1000,0) -> 0 | D63: =IF('CIRC 01.'!H39=70,'CIRC 01.'!B39*1000,0) -> 0 | F63: =IF('CIRC 01.'!H39=50,'CIRC 01.'!B39*1000,0) -> 0 | H63: =IF('CIRC 01.'!H39=35,'CIRC 01.'!B39*1000,0) -> 0 | J63: =IF('CIRC 01.'!J39=25,'CIRC 01.'!D39*1000,0) -> 0 | L63: =IF('CIRC 01.'!L39=16,'CIRC 01.'!F39*1000,0) -> 0 | N63: =IF('CIRC 01.'!N39=10,'CIRC 01.'!H39*1000,0) -> 0 | P63: =IF('CIRC 01.'!P39=6,'CIRC 01.'!J39*1000,0) -> 0
A64: ='CIRC 01.'!#REF! -> #REF! | B64: =IF('CIRC 01.'!H40=95,'CIRC 01.'!B40*1000,0) -> 0 | D64: =IF('CIRC 01.'!H40=70,'CIRC 01.'!B40*1000,0) -> 0 | F64: =IF('CIRC 01.'!H40=50,'CIRC 01.'!B40*1000,0) -> 0 | H64: =IF('CIRC 01.'!H40=35,'CIRC 01.'!B40*1000,0) -> 0 | J64: =IF('CIRC 01.'!J40=25,'CIRC 01.'!D40*1000,0) -> 0 | L64: =IF('CIRC 01.'!L40=16,'CIRC 01.'!F40*1000,0) -> 0 | N64: =IF('CIRC 01.'!N40=10,'CIRC 01.'!H40*1000,0) -> 0 | P64: =IF('CIRC 01.'!P40=6,'CIRC 01.'!J40*1000,0) -> 0
A65: ='CIRC 01.'!#REF! -> #REF! | B65: =IF('CIRC 01.'!#REF!=95,'CIRC 01.'!#REF!*1000,0) -> #REF! | D65: =IF('CIRC 01.'!#REF!=70,'CIRC 01.'!#REF!*1000,0) -> #REF! | F65: =IF('CIRC 01.'!#REF!=50,'CIRC 01.'!#REF!*1000,0) -> #REF! | H65: =IF('CIRC 01.'!#REF!=35,'CIRC 01.'!#REF!*1000,0) -> #REF! | J65: =IF('CIRC 01.'!#REF!=25,'CIRC 01.'!#REF!*1000,0) -> #REF! | L65: =IF('CIRC 01.'!#REF!=16,'CIRC 01.'!#REF!*1000,0) -> #REF! | N65: =IF('CIRC 01.'!#REF!=10,'CIRC 01.'!#REF!*1000,0) -> #REF! | P65: =IF('CIRC 01.'!#REF!=6,'CIRC 01.'!#REF!*1000,0) -> #REF!
A66: ='CIRC 01.'!#REF! -> #REF! | B66: =IF('CIRC 01.'!#REF!=95,'CIRC 01.'!#REF!*1000,0) -> #REF! | D66: =IF('CIRC 01.'!#REF!=70,'CIRC 01.'!#REF!*1000,0) -> #REF! | F66: =IF('CIRC 01.'!#REF!=50,'CIRC 01.'!#REF!*1000,0) -> #REF! | H66: =IF('CIRC 01.'!#REF!=35,'CIRC 01.'!#REF!*1000,0) -> #REF! | J66: =IF('CIRC 01.'!#REF!=25,'CIRC 01.'!#REF!*1000,0) -> #REF! | L66: =IF('CIRC 01.'!#REF!=16,'CIRC 01.'!#REF!*1000,0) -> #REF! | N66: =IF('CIRC 01.'!#REF!=10,'CIRC 01.'!#REF!*1000,0) -> #REF! | P66: =IF('CIRC 01.'!#REF!=6,'CIRC 01.'!#REF!*1000,0) -> #REF!
A67: ='CIRC 01.'!#REF! -> #REF! | B67: =IF('CIRC 01.'!H41=95,'CIRC 01.'!B41*1000,0) -> 0 | D67: =IF('CIRC 01.'!H41=70,'CIRC 01.'!B41*1000,0) -> 0 | F67: =IF('CIRC 01.'!H41=50,'CIRC 01.'!B41*1000,0) -> 0 | H67: =IF('CIRC 01.'!H41=35,'CIRC 01.'!B41*1000,0) -> 0 | J67: =IF('CIRC 01.'!J41=25,'CIRC 01.'!D41*1000,0) -> 0 | L67: =IF('CIRC 01.'!L41=16,'CIRC 01.'!F41*1000,0) -> 0 | N67: =IF('CIRC 01.'!N41=10,'CIRC 01.'!H41*1000,0) -> 0 | P67: =IF('CIRC 01.'!P41=6,'CIRC 01.'!J41*1000,0) -> 0
A68: ='CIRC 01.'!#REF! -> #REF! | B68: =IF('CIRC 01.'!H42=95,'CIRC 01.'!B42*1000,0) -> 0 | D68: =IF('CIRC 01.'!H42=70,'CIRC 01.'!B42*1000,0) -> 0 | F68: =IF('CIRC 01.'!H42=50,'CIRC 01.'!B42*1000,0) -> 0 | H68: =IF('CIRC 01.'!H42=35,'CIRC 01.'!B42*1000,0) -> 0 | J68: =IF('CIRC 01.'!J42=25,'CIRC 01.'!D42*1000,0) -> 0 | L68: =IF('CIRC 01.'!L42=16,'CIRC 01.'!F42*1000,0) -> 0 | N68: =IF('CIRC 01.'!N42=10,'CIRC 01.'!H42*1000,0) -> 0 | P68: =IF('CIRC 01.'!P42=6,'CIRC 01.'!J42*1000,0) -> 0
A69: ='CIRC 01.'!#REF! -> #REF! | B69: =IF('CIRC 01.'!H43=95,'CIRC 01.'!B43*1000,0) -> 0 | D69: =IF('CIRC 01.'!H43=70,'CIRC 01.'!B43*1000,0) -> 0 | F69: =IF('CIRC 01.'!H43=50,'CIRC 01.'!B43*1000,0) -> 0 | H69: =IF('CIRC 01.'!H43=35,'CIRC 01.'!B43*1000,0) -> 0 | J69: =IF('CIRC 01.'!J43=25,'CIRC 01.'!D43*1000,0) -> 0 | L69: =IF('CIRC 01.'!L43=16,'CIRC 01.'!F43*1000,0) -> 0 | N69: =IF('CIRC 01.'!N43=10,'CIRC 01.'!H43*1000,0) -> 0 | P69: =IF('CIRC 01.'!P43=6,'CIRC 01.'!J43*1000,0) -> 0
A70: ='CIRC 01.'!#REF! -> #REF! | B70: =IF('CIRC 01.'!H44=95,'CIRC 01.'!B44*1000,0) -> 0 | D70: =IF('CIRC 01.'!H44=70,'CIRC 01.'!B44*1000,0) -> 0 | F70: =IF('CIRC 01.'!H44=50,'CIRC 01.'!B44*1000,0) -> 0 | H70: =IF('CIRC 01.'!H44=35,'CIRC 01.'!B44*1000,0) -> 0 | J70: =IF('CIRC 01.'!J44=25,'CIRC 01.'!D44*1000,0) -> 0 | L70: =IF('CIRC 01.'!L44=16,'CIRC 01.'!F44*1000,0) -> 0 | N70: =IF('CIRC 01.'!N44=10,'CIRC 01.'!H44*1000,0) -> 0 | P70: =IF('CIRC 01.'!P44=6,'CIRC 01.'!J44*1000,0) -> 0
A71: ='CIRC 01.'!#REF! -> #REF! | B71: =IF('CIRC 01.'!H45=95,'CIRC 01.'!B45*1000,0) -> 0 | D71: =IF('CIRC 01.'!H45=70,'CIRC 01.'!B45*1000,0) -> 0 | F71: =IF('CIRC 01.'!H45=50,'CIRC 01.'!B45*1000,0) -> 0 | H71: =IF('CIRC 01.'!H45=35,'CIRC 01.'!B45*1000,0) -> 0 | J71: =IF('CIRC 01.'!J45=25,'CIRC 01.'!D45*1000,0) -> 0 | L71: =IF('CIRC 01.'!L45=16,'CIRC 01.'!F45*1000,0) -> 0 | N71: =IF('CIRC 01.'!N45=10,'CIRC 01.'!H45*1000,0) -> 0 | P71: =IF('CIRC 01.'!P45=6,'CIRC 01.'!J45*1000,0) -> 0
...
